BEGIN:VCALENDAR
VERSION:2.0
PRODID:-//Austin Police Benevolent Foundation - ECPv6.15.20//NONSGML v1.0//EN
CALSCALE:GREGORIAN
METHOD:PUBLISH
X-WR-CALNAME:Austin Police Benevolent Foundation
X-ORIGINAL-URL:https://apbfoundation.org
X-WR-CALDESC:Events for Austin Police Benevolent Foundation
REFRESH-INTERVAL;VALUE=DURATION:PT1H
X-Robots-Tag:noindex
X-PUBLISHED-TTL:PT1H
BEGIN:VTIMEZONE
TZID:America/Chicago
BEGIN:DAYLIGHT
TZOFFSETFROM:-0600
TZOFFSETTO:-0500
TZNAME:CDT
DTSTART:20240310T080000
END:DAYLIGHT
BEGIN:STANDARD
TZOFFSETFROM:-0500
TZOFFSETTO:-0600
TZNAME:CST
DTSTART:20241103T070000
END:STANDARD
BEGIN:DAYLIGHT
TZOFFSETFROM:-0600
TZOFFSETTO:-0500
TZNAME:CDT
DTSTART:20250309T080000
END:DAYLIGHT
BEGIN:STANDARD
TZOFFSETFROM:-0500
TZOFFSETTO:-0600
TZNAME:CST
DTSTART:20251102T070000
END:STANDARD
BEGIN:DAYLIGHT
TZOFFSETFROM:-0600
TZOFFSETTO:-0500
TZNAME:CDT
DTSTART:20260308T080000
END:DAYLIGHT
BEGIN:STANDARD
TZOFFSETFROM:-0500
TZOFFSETTO:-0600
TZNAME:CST
DTSTART:20261101T070000
END:STANDARD
END:VTIMEZONE
BEGIN:VEVENT
DTSTART;TZID=America/Chicago:20251116T130000
DTEND;TZID=America/Chicago:20251116T170000
DTSTAMP:20260422T103814
CREATED:20251027T200557Z
LAST-MODIFIED:20251027T200557Z
UID:864-1763298000-1763312400@apbfoundation.org
SUMMARY:APA Family Day 2025
DESCRIPTION:Come out to the 4th Annual APA Family Day. This year’s event is being hosted by COTA at their Speed City. There will be 1/2 price go-karting and kid karting\, along with free mini golf\, and free rides on the Soaring Eagle.  We will have Mighty Fine Hamburgers cooking up food on their burger trailer along with a concession stand at COTA with Austin’s Pizza. \nRaffle prizes\, kid activities\, Velocity Lounge\, and free race day viewing. \nDon’t miss out! \nRSVP Here: https://www.eventcreate.com/e/familyday2025apa
URL:https://apbfoundation.org/event/apa-family-day-2025/
LOCATION:Circuit of Americas\, 9201 Circuit of the Americas\, Del Valle\, TX\, 78617\, United States
END:VEVENT
BEGIN:VEVENT
DTSTART;TZID=America/Chicago:20251101T083000
DTEND;TZID=America/Chicago:20251101T140000
DTSTAMP:20260422T103814
CREATED:20251027T194820Z
LAST-MODIFIED:20251027T194820Z
UID:860-1761985800-1762005600@apbfoundation.org
SUMMARY:Texas Football Tailgate - Texas vs Vanderbilt
DESCRIPTION:Join Us on November 1st \nWho is ready for Texas football??? Come out to the APA tailgate for the Texas vs Vanderbilt game. \nKickoff is at 11a\, we will be out there with food and drinks starting at 8:30a. \nDon’t forget to bring a chair. \nMenu: Pancakes\, Eggs\, Bacon\, Potatoes\, Coffee\, Mimosas\, beer\, soda\, and more! \nCome out and see the New APA/Foundation BBQ trailer in action! \nSPONSORED BY: Texas Towing Association
URL:https://apbfoundation.org/event/texas-football-tailgate-texas-vs-vanderbilt/
LOCATION:Circuit of Americas\, 9201 Circuit of the Americas\, Del Valle\, TX\, 78617\, United States
END:VEVENT
BEGIN:VEVENT
DTSTART;TZID=America/Chicago:20250920T163000
DTEND;TZID=America/Chicago:20250920T193000
DTSTAMP:20260422T103814
CREATED:20250909T154828Z
LAST-MODIFIED:20250909T160835Z
UID:674-1758385800-1758396600@apbfoundation.org
SUMMARY:Texas Longhorns Football Tailgate
DESCRIPTION:Presented By: Loewy Law Firm
URL:https://apbfoundation.org/event/texas-longhorns-football-tailgate/
LOCATION:Circuit of Americas\, 9201 Circuit of the Americas\, Del Valle\, TX\, 78617\, United States
ORGANIZER;CN="Austin Police Benevolent Foundation":MAILTO:foundation@austinpolice.com
END:VEVENT
END:VCALENDAR